Package: TENxVisiumData Version: 1.18.0 Command: /home/biocbuild/bbs-3.22-bioc/R/bin/R CMD check --install=check:TENxVisiumData.install-out.txt --library=/home/biocbuild/bbs-3.22-bioc/R/site-library --timings TENxVisiumData_1.18.0.tar.gz StartedAt: 2025-11-04 13:05:55 -0500 (Tue, 04 Nov 2025) EndedAt: 2025-11-04 13:09:22 -0500 (Tue, 04 Nov 2025) EllapsedTime: 206.9 seconds RetCode: 0 Status: OK CheckDir: TENxVisiumData.Rcheck Warnings: 0