Package: TENxVisiumData Version: 1.18.0 Command: /home/biocbuild/bbs-3.22-bioc/R/bin/R CMD build --keep-empty-dirs --no-resave-data TENxVisiumData StartedAt: 2025-10-30 11:57:57 -0400 (Thu, 30 Oct 2025) EndedAt: 2025-10-30 11:59:18 -0400 (Thu, 30 Oct 2025) EllapsedTime: 80.8 seconds RetCode: 0 Status: OK PackageFile: TENxVisiumData_1.18.0.tar.gz PackageFileSize: 299.4 KiB