Package: TENxVisiumData Version: 1.16.0 Command: /home/biocbuild/bbs-3.21-bioc/R/bin/R CMD check --install=check:TENxVisiumData.install-out.txt --library=/home/biocbuild/bbs-3.21-bioc/R/site-library --timings TENxVisiumData_1.16.0.tar.gz StartedAt: 2025-10-16 13:06:04 -0400 (Thu, 16 Oct 2025) EndedAt: 2025-10-16 13:08:53 -0400 (Thu, 16 Oct 2025) EllapsedTime: 168.8 seconds RetCode: 1 Status: ERROR CheckDir: TENxVisiumData.Rcheck Warnings: NA