Package: TENxPBMCData Version: 1.28.0 Command: /home/biocbuild/bbs-3.22-bioc/R/bin/R CMD INSTALL TENxPBMCData StartedAt: 2025-10-30 11:00:51 -0400 (Thu, 30 Oct 2025) EndedAt: 2025-10-30 11:01:36 -0400 (Thu, 30 Oct 2025) EllapsedTime: 45.0 seconds RetCode: 0 Status: OK