Package: TENxPBMCData Version: 1.28.0 Command: /home/biocbuild/bbs-3.22-bioc/R/bin/R CMD check --install=check:TENxPBMCData.install-out.txt --library=/home/biocbuild/bbs-3.22-bioc/R/site-library --timings TENxPBMCData_1.28.0.tar.gz StartedAt: 2025-11-04 13:05:09 -0500 (Tue, 04 Nov 2025) EndedAt: 2025-11-04 13:09:23 -0500 (Tue, 04 Nov 2025) EllapsedTime: 254.8 seconds RetCode: 0 Status: OK CheckDir: TENxPBMCData.Rcheck Warnings: 0