Package: TENxPBMCData Version: 1.28.0 Command: /home/biocbuild/bbs-3.22-bioc/R/bin/R CMD build --keep-empty-dirs --no-resave-data TENxPBMCData StartedAt: 2025-10-30 11:57:55 -0400 (Thu, 30 Oct 2025) EndedAt: 2025-10-30 11:59:07 -0400 (Thu, 30 Oct 2025) EllapsedTime: 71.2 seconds RetCode: 0 Status: OK PackageFile: TENxPBMCData_1.28.0.tar.gz PackageFileSize: 299.6 KiB