Package: TENxPBMCData Version: 1.26.0 Command: /home/biocbuild/bbs-3.21-bioc/R/bin/R CMD check --install=check:TENxPBMCData.install-out.txt --library=/home/biocbuild/bbs-3.21-bioc/R/site-library --timings TENxPBMCData_1.26.0.tar.gz StartedAt: 2025-10-14 13:05:52 -0400 (Tue, 14 Oct 2025) EndedAt: 2025-10-14 13:10:15 -0400 (Tue, 14 Oct 2025) EllapsedTime: 263.5 seconds RetCode: 0 Status: OK CheckDir: TENxPBMCData.Rcheck Warnings: 0