Package: TENxBUSData Version: 1.24.0 Command: /home/biocbuild/bbs-3.22-bioc/R/bin/R CMD check --install=check:TENxBUSData.install-out.txt --library=/home/biocbuild/bbs-3.22-bioc/R/site-library --timings TENxBUSData_1.24.0.tar.gz StartedAt: 2025-11-04 13:04:48 -0500 (Tue, 04 Nov 2025) EndedAt: 2025-11-04 13:06:51 -0500 (Tue, 04 Nov 2025) EllapsedTime: 122.9 seconds RetCode: 0 Status: OK CheckDir: TENxBUSData.Rcheck Warnings: 0