Package: TENET.ExperimentHub Version: 1.2.0 Command: /home/biocbuild/bbs-3.22-bioc/R/bin/R CMD INSTALL TENET.ExperimentHub StartedAt: 2025-11-04 10:59:21 -0500 (Tue, 04 Nov 2025) EndedAt: 2025-11-04 10:59:48 -0500 (Tue, 04 Nov 2025) EllapsedTime: 27.1 seconds RetCode: 0 Status: OK