Package: TENET.ExperimentHub Version: 1.2.0 Command: /home/biocbuild/bbs-3.22-bioc/R/bin/R CMD check --install=check:TENET.ExperimentHub.install-out.txt --library=/home/biocbuild/bbs-3.22-bioc/R/site-library --timings TENET.ExperimentHub_1.2.0.tar.gz StartedAt: 2025-11-04 13:04:33 -0500 (Tue, 04 Nov 2025) EndedAt: 2025-11-04 13:07:45 -0500 (Tue, 04 Nov 2025) EllapsedTime: 192.5 seconds RetCode: 0 Status: OK CheckDir: TENET.ExperimentHub.Rcheck Warnings: 0