Package: TENET.ExperimentHub Version: 1.2.0 Command: /home/biocbuild/bbs-3.22-bioc/R/bin/R CMD build --keep-empty-dirs --no-resave-data TENET.ExperimentHub StartedAt: 2025-11-04 11:45:52 -0500 (Tue, 04 Nov 2025) EndedAt: 2025-11-04 11:46:49 -0500 (Tue, 04 Nov 2025) EllapsedTime: 56.6 seconds RetCode: 0 Status: OK PackageFile: TENET.ExperimentHub_1.2.0.tar.gz PackageFileSize: 245.8 KiB