Package: TCGAcrcmRNA Version: 1.30.0 Command: /home/biocbuild/bbs-3.22-bioc/R/bin/R CMD build --keep-empty-dirs --no-resave-data TCGAcrcmRNA StartedAt: 2025-10-30 11:57:28 -0400 (Thu, 30 Oct 2025) EndedAt: 2025-10-30 11:57:41 -0400 (Thu, 30 Oct 2025) EllapsedTime: 13.1 seconds RetCode: 0 Status: OK PackageFile: TCGAcrcmRNA_1.30.0.tar.gz PackageFileSize: 35.3 MiB