Package: TCGAbiolinksGUI.data Version: 1.30.0 Command: /home/biocbuild/bbs-3.22-bioc/R/bin/R CMD check --install=check:TCGAbiolinksGUI.data.install-out.txt --library=/home/biocbuild/bbs-3.22-bioc/R/site-library --timings TCGAbiolinksGUI.data_1.30.0.tar.gz StartedAt: 2025-11-04 13:03:51 -0500 (Tue, 04 Nov 2025) EndedAt: 2025-11-04 13:07:40 -0500 (Tue, 04 Nov 2025) EllapsedTime: 228.9 seconds RetCode: 0 Status: WARNINGS CheckDir: TCGAbiolinksGUI.data.Rcheck Warnings: 1