Package: TCGAbiolinksGUI.data Version: 1.28.0 Command: /home/biocbuild/bbs-3.21-bioc/R/bin/R CMD check --install=check:TCGAbiolinksGUI.data.install-out.txt --library=/home/biocbuild/bbs-3.21-bioc/R/site-library --timings TCGAbiolinksGUI.data_1.28.0.tar.gz StartedAt: 2025-10-07 13:03:26 -0400 (Tue, 07 Oct 2025) EndedAt: 2025-10-07 13:07:04 -0400 (Tue, 07 Oct 2025) EllapsedTime: 218.2 seconds RetCode: 0 Status: WARNINGS CheckDir: TCGAbiolinksGUI.data.Rcheck Warnings: 1