Package: TCGAWorkflowData Version: 1.34.0 Command: /home/biocbuild/bbs-3.22-bioc/R/bin/R CMD INSTALL TCGAWorkflowData StartedAt: 2025-10-30 11:07:32 -0400 (Thu, 30 Oct 2025) EndedAt: 2025-10-30 11:08:45 -0400 (Thu, 30 Oct 2025) EllapsedTime: 72.8 seconds RetCode: 0 Status: OK