Package: TCGAWorkflowData Version: 1.34.0 Command: /home/biocbuild/bbs-3.22-bioc/R/bin/R CMD build --keep-empty-dirs --no-resave-data TCGAWorkflowData StartedAt: 2025-10-30 11:57:37 -0400 (Thu, 30 Oct 2025) EndedAt: 2025-10-30 12:00:42 -0400 (Thu, 30 Oct 2025) EllapsedTime: 185.5 seconds RetCode: 0 Status: OK PackageFile: TCGAWorkflowData_1.34.0.tar.gz PackageFileSize: 68.83 MiB