Package: TCGAMethylation450k Version: 1.46.0 Command: /home/biocbuild/bbs-3.22-bioc/R/bin/R CMD INSTALL TCGAMethylation450k StartedAt: 2025-11-04 10:55:35 -0500 (Tue, 04 Nov 2025) EndedAt: 2025-11-04 10:55:36 -0500 (Tue, 04 Nov 2025) EllapsedTime: 1.2 seconds RetCode: 0 Status: OK