Package: TBX20BamSubset Version: 1.46.0 Command: /home/biocbuild/bbs-3.22-bioc/R/bin/R CMD INSTALL TBX20BamSubset StartedAt: 2025-11-04 11:01:12 -0500 (Tue, 04 Nov 2025) EndedAt: 2025-11-04 11:01:24 -0500 (Tue, 04 Nov 2025) EllapsedTime: 12.2 seconds RetCode: 0 Status: OK