Package: TBX20BamSubset Version: 1.46.0 Command: /home/biocbuild/bbs-3.22-bioc/R/bin/R CMD build --keep-empty-dirs --no-resave-data TBX20BamSubset StartedAt: 2025-11-04 11:45:26 -0500 (Tue, 04 Nov 2025) EndedAt: 2025-11-04 11:45:49 -0500 (Tue, 04 Nov 2025) EllapsedTime: 23.3 seconds RetCode: 0 Status: OK PackageFile: TBX20BamSubset_1.46.0.tar.gz PackageFileSize: 94.74 MiB