Package: TBX20BamSubset Version: 1.44.0 Command: /home/biocbuild/bbs-3.21-bioc/R/bin/R CMD INSTALL TBX20BamSubset StartedAt: 2025-09-30 11:02:02 -0400 (Tue, 30 Sep 2025) EndedAt: 2025-09-30 11:02:13 -0400 (Tue, 30 Sep 2025) EllapsedTime: 10.5 seconds RetCode: 0 Status: OK