Package: TBX20BamSubset Version: 1.44.0 Command: /home/biocbuild/bbs-3.21-bioc/R/bin/R CMD build --keep-empty-dirs --no-resave-data TBX20BamSubset StartedAt: 2025-09-30 11:41:47 -0400 (Tue, 30 Sep 2025) EndedAt: 2025-09-30 11:42:10 -0400 (Tue, 30 Sep 2025) EllapsedTime: 23.3 seconds RetCode: 0 Status: OK PackageFile: TBX20BamSubset_1.44.0.tar.gz PackageFileSize: 94.74 MiB