Package: SpikeInSubset Version: 1.50.0 Command: /home/biocbuild/bbs-3.22-bioc/R/bin/R CMD check --install=check:SpikeInSubset.install-out.txt --library=/home/biocbuild/bbs-3.22-bioc/R/site-library --timings SpikeInSubset_1.50.0.tar.gz StartedAt: 2025-11-20 13:20:53 -0500 (Thu, 20 Nov 2025) EndedAt: 2025-11-20 13:22:29 -0500 (Thu, 20 Nov 2025) EllapsedTime: 95.9 seconds RetCode: 0 Status: WARNINGS CheckDir: SpikeInSubset.Rcheck Warnings: 3