Package: SpikeIn Version: 1.52.0 Command: /home/biocbuild/bbs-3.22-bioc/R/bin/R CMD check --install=check:SpikeIn.install-out.txt --library=/home/biocbuild/bbs-3.22-bioc/R/site-library --timings SpikeIn_1.52.0.tar.gz StartedAt: 2025-11-04 12:59:40 -0500 (Tue, 04 Nov 2025) EndedAt: 2025-11-04 13:00:17 -0500 (Tue, 04 Nov 2025) EllapsedTime: 36.6 seconds RetCode: 0 Status: OK CheckDir: SpikeIn.Rcheck Warnings: 0