Package: SpikeIn Version: 1.52.0 Command: /home/biocbuild/bbs-3.22-bioc/R/bin/R CMD build --keep-empty-dirs --no-resave-data SpikeIn StartedAt: 2025-10-30 11:54:47 -0400 (Thu, 30 Oct 2025) EndedAt: 2025-10-30 11:55:00 -0400 (Thu, 30 Oct 2025) EllapsedTime: 13.0 seconds RetCode: 0 Status: OK PackageFile: SpikeIn_1.52.0.tar.gz PackageFileSize: 63.05 MiB