Package: SomatiCAData Version: 1.48.0 Command: /home/biocbuild/bbs-3.22-bioc/R/bin/R CMD check --install=check:SomatiCAData.install-out.txt --library=/home/biocbuild/bbs-3.22-bioc/R/site-library --timings SomatiCAData_1.48.0.tar.gz StartedAt: 2025-11-04 12:58:58 -0500 (Tue, 04 Nov 2025) EndedAt: 2025-11-04 13:01:01 -0500 (Tue, 04 Nov 2025) EllapsedTime: 123.3 seconds RetCode: 0 Status: WARNINGS CheckDir: SomatiCAData.Rcheck Warnings: 2