Package: SingleMoleculeFootprintingData Version: 1.16.0 Command: /home/biocbuild/bbs-3.21-bioc/R/bin/R CMD check --install=check:SingleMoleculeFootprintingData.install-out.txt --library=/home/biocbuild/bbs-3.21-bioc/R/site-library --timings SingleMoleculeFootprintingData_1.16.0.tar.gz StartedAt: 2025-10-16 12:57:28 -0400 (Thu, 16 Oct 2025) EndedAt: 2025-10-16 12:59:09 -0400 (Thu, 16 Oct 2025) EllapsedTime: 101.1 seconds RetCode: 0 Status: OK CheckDir: SingleMoleculeFootprintingData.Rcheck Warnings: 0