Package: SingleCellMultiModal Version: 1.22.0 Command: /home/biocbuild/bbs-3.22-bioc/R/bin/R CMD INSTALL SingleCellMultiModal StartedAt: 2025-11-20 10:59:37 -0500 (Thu, 20 Nov 2025) EndedAt: 2025-11-20 11:00:10 -0500 (Thu, 20 Nov 2025) EllapsedTime: 33.5 seconds RetCode: 0 Status: OK