Package: SingleCellMultiModal Version: 1.22.0 Command: /home/biocbuild/bbs-3.22-bioc/R/bin/R CMD build --keep-empty-dirs --no-resave-data SingleCellMultiModal StartedAt: 2025-11-20 11:46:35 -0500 (Thu, 20 Nov 2025) EndedAt: 2025-11-20 11:52:06 -0500 (Thu, 20 Nov 2025) EllapsedTime: 331.0 seconds RetCode: 1 Status: ERROR PackageFile: None PackageFileSize: NA