Package: Single.mTEC.Transcriptomes Version: 1.38.0 Command: /home/biocbuild/bbs-3.22-bioc/R/bin/R CMD INSTALL Single.mTEC.Transcriptomes StartedAt: 2025-11-04 10:55:48 -0500 (Tue, 04 Nov 2025) EndedAt: 2025-11-04 10:55:53 -0500 (Tue, 04 Nov 2025) EllapsedTime: 4.9 seconds RetCode: 0 Status: OK