Package: SimBenchData Version: 1.17.0 Command: /home/biocbuild/bbs-3.22-bioc/R/bin/R CMD check --install=check:SimBenchData.install-out.txt --library=/home/biocbuild/bbs-3.22-bioc/R/site-library --timings SimBenchData_1.17.0.tar.gz StartedAt: 2025-10-28 13:03:34 -0400 (Tue, 28 Oct 2025) EndedAt: 2025-10-28 13:04:41 -0400 (Tue, 28 Oct 2025) EllapsedTime: 67.6 seconds RetCode: 0 Status: OK CheckDir: SimBenchData.Rcheck Warnings: 0