Package: SVM2CRMdata Version: 1.42.0 Command: /home/biocbuild/bbs-3.22-bioc/R/bin/R CMD INSTALL SVM2CRMdata StartedAt: 2025-11-20 10:55:44 -0500 (Thu, 20 Nov 2025) EndedAt: 2025-11-20 10:55:49 -0500 (Thu, 20 Nov 2025) EllapsedTime: 4.7 seconds RetCode: 0 Status: OK