Package: SVM2CRMdata Version: 1.42.0 Command: /home/biocbuild/bbs-3.22-bioc/R/bin/R CMD check --install=check:SVM2CRMdata.install-out.txt --library=/home/biocbuild/bbs-3.22-bioc/R/site-library --timings SVM2CRMdata_1.42.0.tar.gz StartedAt: 2025-11-20 13:22:06 -0500 (Thu, 20 Nov 2025) EndedAt: 2025-11-20 13:23:18 -0500 (Thu, 20 Nov 2025) EllapsedTime: 71.6 seconds RetCode: 0 Status: WARNINGS CheckDir: SVM2CRMdata.Rcheck Warnings: 1