Package: SNPhoodData Version: 1.40.0 Command: /home/biocbuild/bbs-3.22-bioc/R/bin/R CMD INSTALL SNPhoodData StartedAt: 2025-11-04 10:55:39 -0500 (Tue, 04 Nov 2025) EndedAt: 2025-11-04 10:55:41 -0500 (Tue, 04 Nov 2025) EllapsedTime: 2.0 seconds RetCode: 0 Status: OK