Package: SNPhoodData Version: 1.40.0 Command: /home/biocbuild/bbs-3.22-bioc/R/bin/R CMD check --install=check:SNPhoodData.install-out.txt --library=/home/biocbuild/bbs-3.22-bioc/R/site-library --timings SNPhoodData_1.40.0.tar.gz StartedAt: 2025-11-04 12:58:51 -0500 (Tue, 04 Nov 2025) EndedAt: 2025-11-04 12:59:14 -0500 (Tue, 04 Nov 2025) EllapsedTime: 22.2 seconds RetCode: 0 Status: OK CheckDir: SNPhoodData.Rcheck Warnings: 0