Package: SFEData Version: 1.12.0 Command: /home/biocbuild/bbs-3.22-bioc/R/bin/R CMD check --install=check:SFEData.install-out.txt --library=/home/biocbuild/bbs-3.22-bioc/R/site-library --timings SFEData_1.12.0.tar.gz StartedAt: 2025-11-04 12:56:39 -0500 (Tue, 04 Nov 2025) EndedAt: 2025-11-04 12:59:11 -0500 (Tue, 04 Nov 2025) EllapsedTime: 152.6 seconds RetCode: 0 Status: OK CheckDir: SFEData.Rcheck Warnings: 0