Package: SCLCBam Version: 1.42.0 Command: /home/biocbuild/bbs-3.22-bioc/R/bin/R CMD INSTALL SCLCBam StartedAt: 2025-11-04 10:55:17 -0500 (Tue, 04 Nov 2025) EndedAt: 2025-11-04 10:55:19 -0500 (Tue, 04 Nov 2025) EllapsedTime: 1.6 seconds RetCode: 0 Status: OK