Package: SCLCBam Version: 1.42.0 Command: /home/biocbuild/bbs-3.22-bioc/R/bin/R CMD build --keep-empty-dirs --no-resave-data SCLCBam StartedAt: 2025-11-04 11:41:50 -0500 (Tue, 04 Nov 2025) EndedAt: 2025-11-04 11:41:58 -0500 (Tue, 04 Nov 2025) EllapsedTime: 8.4 seconds RetCode: 0 Status: OK PackageFile: SCLCBam_1.42.0.tar.gz PackageFileSize: 57.84 MiB