Package: SBGNview.data Version: 1.24.0 Command: /home/biocbuild/bbs-3.22-bioc/R/bin/R CMD INSTALL SBGNview.data StartedAt: 2025-11-04 10:57:47 -0500 (Tue, 04 Nov 2025) EndedAt: 2025-11-04 10:58:05 -0500 (Tue, 04 Nov 2025) EllapsedTime: 17.5 seconds RetCode: 0 Status: OK