Package: SBGNview.data Version: 1.24.0 Command: /home/biocbuild/bbs-3.22-bioc/R/bin/R CMD check --install=check:SBGNview.data.install-out.txt --library=/home/biocbuild/bbs-3.22-bioc/R/site-library --timings SBGNview.data_1.24.0.tar.gz StartedAt: 2025-11-06 12:59:29 -0500 (Thu, 06 Nov 2025) EndedAt: 2025-11-06 13:01:15 -0500 (Thu, 06 Nov 2025) EllapsedTime: 106.1 seconds RetCode: 0 Status: OK CheckDir: SBGNview.data.Rcheck Warnings: 0