Package: SBGNview.data Version: 1.24.0 Command: /home/biocbuild/bbs-3.22-bioc/R/bin/R CMD build --keep-empty-dirs --no-resave-data SBGNview.data StartedAt: 2025-11-04 11:40:54 -0500 (Tue, 04 Nov 2025) EndedAt: 2025-11-04 11:41:43 -0500 (Tue, 04 Nov 2025) EllapsedTime: 48.6 seconds RetCode: 0 Status: OK PackageFile: SBGNview.data_1.24.0.tar.gz PackageFileSize: 65.91 MiB