Package: SBGNview.data Version: 1.22.0 Command: /home/biocbuild/bbs-3.21-bioc/R/bin/R CMD INSTALL SBGNview.data StartedAt: 2025-10-14 10:57:51 -0400 (Tue, 14 Oct 2025) EndedAt: 2025-10-14 10:58:08 -0400 (Tue, 14 Oct 2025) EllapsedTime: 16.8 seconds RetCode: 0 Status: OK