Package: SBGNview.data Version: 1.22.0 Command: /home/biocbuild/bbs-3.21-bioc/R/bin/R CMD build --keep-empty-dirs --no-resave-data SBGNview.data StartedAt: 2025-10-16 11:37:41 -0400 (Thu, 16 Oct 2025) EndedAt: 2025-10-16 11:38:28 -0400 (Thu, 16 Oct 2025) EllapsedTime: 46.6 seconds RetCode: 0 Status: OK PackageFile: SBGNview.data_1.22.0.tar.gz PackageFileSize: 65.91 MiB