Package: RnaSeqSampleSizeData Version: 1.40.0 Command: /home/biocbuild/bbs-3.21-bioc/R/bin/R CMD check --install=check:RnaSeqSampleSizeData.install-out.txt --library=/home/biocbuild/bbs-3.21-bioc/R/site-library --timings RnaSeqSampleSizeData_1.40.0.tar.gz StartedAt: 2025-09-30 12:48:34 -0400 (Tue, 30 Sep 2025) EndedAt: 2025-09-30 12:49:02 -0400 (Tue, 30 Sep 2025) EllapsedTime: 27.6 seconds RetCode: 0 Status: OK CheckDir: RnaSeqSampleSizeData.Rcheck Warnings: 0