Package: RnBeads.rn5 Version: 1.42.0 Command: /home/biocbuild/bbs-3.22-bioc/R/bin/R CMD check --install=check:RnBeads.rn5.install-out.txt --library=/home/biocbuild/bbs-3.22-bioc/R/site-library --timings RnBeads.rn5_1.42.0.tar.gz StartedAt: 2025-11-04 12:50:57 -0500 (Tue, 04 Nov 2025) EndedAt: 2025-11-04 12:53:28 -0500 (Tue, 04 Nov 2025) EllapsedTime: 151.0 seconds RetCode: 0 Status: OK CheckDir: RnBeads.rn5.Rcheck Warnings: 0