Package: RnBeads.rn5 Version: 1.42.0 Command: /home/biocbuild/bbs-3.22-bioc/R/bin/R CMD build --keep-empty-dirs --no-resave-data RnBeads.rn5 StartedAt: 2025-11-04 11:39:26 -0500 (Tue, 04 Nov 2025) EndedAt: 2025-11-04 11:39:32 -0500 (Tue, 04 Nov 2025) EllapsedTime: 6.9 seconds RetCode: 0 Status: OK PackageFile: RnBeads.rn5_1.42.0.tar.gz PackageFileSize: 106.8 MiB