Package: RnBeads.mm9 Version: 1.42.0 Command: /home/biocbuild/bbs-3.22-bioc/R/bin/R CMD INSTALL RnBeads.mm9 StartedAt: 2025-11-04 10:58:11 -0500 (Tue, 04 Nov 2025) EndedAt: 2025-11-04 10:58:19 -0500 (Tue, 04 Nov 2025) EllapsedTime: 8.2 seconds RetCode: 0 Status: OK