Package: RnBeads.mm9 Version: 1.42.0 Command: /home/biocbuild/bbs-3.22-bioc/R/bin/R CMD check --install=check:RnBeads.mm9.install-out.txt --library=/home/biocbuild/bbs-3.22-bioc/R/site-library --timings RnBeads.mm9_1.42.0.tar.gz StartedAt: 2025-11-04 12:49:50 -0500 (Tue, 04 Nov 2025) EndedAt: 2025-11-04 12:51:58 -0500 (Tue, 04 Nov 2025) EllapsedTime: 128.3 seconds RetCode: 0 Status: OK CheckDir: RnBeads.mm9.Rcheck Warnings: 0