Package: RnBeads.mm9 Version: 1.40.0 Command: /home/biocbuild/bbs-3.21-bioc/R/bin/R CMD check --install=check:RnBeads.mm9.install-out.txt --library=/home/biocbuild/bbs-3.21-bioc/R/site-library --timings RnBeads.mm9_1.40.0.tar.gz StartedAt: 2025-10-16 12:49:49 -0400 (Thu, 16 Oct 2025) EndedAt: 2025-10-16 12:51:58 -0400 (Thu, 16 Oct 2025) EllapsedTime: 129.1 seconds RetCode: 0 Status: OK CheckDir: RnBeads.mm9.Rcheck Warnings: 0