Package: RnBeads.mm10 Version: 2.18.0 Command: /home/biocbuild/bbs-3.22-bioc/R/bin/R CMD INSTALL RnBeads.mm10 StartedAt: 2025-11-04 11:03:04 -0500 (Tue, 04 Nov 2025) EndedAt: 2025-11-04 11:03:12 -0500 (Tue, 04 Nov 2025) EllapsedTime: 7.7 seconds RetCode: 0 Status: OK