Package: RnBeads.mm10 Version: 2.18.0 Command: /home/biocbuild/bbs-3.22-bioc/R/bin/R CMD check --install=check:RnBeads.mm10.install-out.txt --library=/home/biocbuild/bbs-3.22-bioc/R/site-library --timings RnBeads.mm10_2.18.0.tar.gz StartedAt: 2025-11-04 12:49:39 -0500 (Tue, 04 Nov 2025) EndedAt: 2025-11-04 12:51:53 -0500 (Tue, 04 Nov 2025) EllapsedTime: 133.3 seconds RetCode: 0 Status: OK CheckDir: RnBeads.mm10.Rcheck Warnings: 0